BEGIN:VCALENDAR
VERSION:2.0
PRODID:-//eventon.com NONSGML v1.0//EN
CALSCALE:GREGORIAN
METHOD:PUBLISH
BEGIN:VEVENT
UID:69e5a7d7ac430
DTSTAMP:20260420T041311Z
DTSTART:20250502T220000Z
DTEND:20250503T020000Z
LOCATION:Chacos Park 4th and Main Street
SUMMARY:Carbondale Family Block Party
DESCRIPTION:The 15th annual Carbondale Family Block Party is an annual fami
 ly-friendly event to celebrate spring and welcome summer. In addition to gr
 eat local food\,  music produced by valley youth\,  and activities for kids
  of all ages\,  this has become a platform for various non-profit organizat
 ions in our valley whose mission[..]\nhttps://www.carbondale.com/events/car
 bondale-family-block-party/
URL:https://www.carbondale.com/events/carbondale-family-block-party/
END:VEVENT
END:VCALENDAR